BEGIN:VCALENDAR
VERSION:2.0
PRODID:-//wp-events-plugin.com//7.2.3.1//EN
TZID:Europe/Rome
X-WR-TIMEZONE:Europe/Rome
BEGIN:VEVENT
UID:160@fidaltreviso.it
DTSTART;TZID=Europe/Rome;VALUE=DATE:20260315
DTEND;TZID=Europe/Rome;VALUE=DATE:20260316
DTSTAMP:20260317T114921Z
URL:https://fidaltreviso.it/eventi/campionato-provinciale-cross-corto-cros
 s-cronometro-a-coppie-eso10/
SUMMARY:CAMPIONATO PROVINCIALE CROSS CORTO - Cross "Cronometro a Coppie" ES
 O10
DESCRIPTION:
CATEGORIES:Allieve,Allievi,Cadetti/e,Esordienti F 10,Esordienti M
 10,Ragazzi/e
LOCATION:Villa Guidini – Zero Branco\, Via Gian Battista Guidini\, 89\, Z
 ero Branco\, Treviso\, 31059\, Veneto\, Italia
X-APPLE-STRUCTURED-LOCATION;VALUE=URI;X-ADDRESS=Via Gian Battista Guidini\,
  89\, Zero Branco\, Treviso\, 31059\, Veneto\, Italia;X-APPLE-RADIUS=100;X
 -TITLE=Villa Guidini – Zero Branco:geo:0,0
END:VEVENT
BEGIN:VTIMEZONE
TZID:Europe/Rome
X-LIC-LOCATION:Europe/Rome
BEGIN:STANDARD
DTSTART:20251026T020000
TZOFFSETFROM:+0200
TZOFFSETTO:+0100
TZNAME:CET
END:STANDARD
END:VTIMEZONE
END:VCALENDAR