BEGIN:VCALENDAR
VERSION:2.0
PRODID:-//wp-events-plugin.com//7.2.3.1//EN
TZID:Europe/Rome
X-WR-TIMEZONE:Europe/Rome
BEGIN:VEVENT
UID:101@fidaltreviso.it
DTSTART;TZID=Europe/Rome;VALUE=DATE:20240615
DTEND;TZID=Europe/Rome;VALUE=DATE:20240616
DTSTAMP:20240617T102218Z
URL:https://fidaltreviso.it/eventi/manifestazione-promozionale-esordienti-
 staffette/
SUMMARY:MANIFESTAZIONE PROMOZIONALE ESORDIENTI - STAFFETTE
DESCRIPTION:
CATEGORIES:Esordienti F 10,Esordienti M 10
LOCATION:Valdobbiadene\, Via M. Kolbe\, Valdobbiadene\, Italia
X-APPLE-STRUCTURED-LOCATION;VALUE=URI;X-ADDRESS=Via M. Kolbe\, Valdobbiaden
 e\, Italia;X-APPLE-RADIUS=100;X-TITLE=Valdobbiadene:geo:0,0
END:VEVENT
BEGIN:VTIMEZONE
TZID:Europe/Rome
X-LIC-LOCATION:Europe/Rome
BEGIN:DAYLIGHT
DTSTART:20240331T030000
TZOFFSETFROM:+0100
TZOFFSETTO:+0200
TZNAME:CEST
END:DAYLIGHT
END:VTIMEZONE
END:VCALENDAR